BEGIN:VCALENDAR
VERSION:2.0
PRODID:-//Asterism.org - ECPv6.15.18//NONSGML v1.0//EN
CALSCALE:GREGORIAN
METHOD:PUBLISH
X-ORIGINAL-URL:https://asterism.org
X-WR-CALDESC:Events for Asterism.org
REFRESH-INTERVAL;VALUE=DURATION:PT1H
X-Robots-Tag:noindex
X-PUBLISHED-TTL:PT1H
BEGIN:VTIMEZONE
TZID:America/New_York
BEGIN:DAYLIGHT
TZOFFSETFROM:-0500
TZOFFSETTO:-0400
TZNAME:EDT
DTSTART:20230312T070000
END:DAYLIGHT
BEGIN:STANDARD
TZOFFSETFROM:-0400
TZOFFSETTO:-0500
TZNAME:EST
DTSTART:20231105T060000
END:STANDARD
BEGIN:DAYLIGHT
TZOFFSETFROM:-0500
TZOFFSETTO:-0400
TZNAME:EDT
DTSTART:20240310T070000
END:DAYLIGHT
BEGIN:STANDARD
TZOFFSETFROM:-0400
TZOFFSETTO:-0500
TZNAME:EST
DTSTART:20241103T060000
END:STANDARD
BEGIN:DAYLIGHT
TZOFFSETFROM:-0500
TZOFFSETTO:-0400
TZNAME:EDT
DTSTART:20250309T070000
END:DAYLIGHT
BEGIN:STANDARD
TZOFFSETFROM:-0400
TZOFFSETTO:-0500
TZNAME:EST
DTSTART:20251102T060000
END:STANDARD
END:VTIMEZONE
BEGIN:VEVENT
DTSTART;TZID=America/New_York:20240830T203000
DTEND;TZID=America/New_York:20240830T213000
DTSTAMP:20260424T104415
CREATED:20240618T190737Z
LAST-MODIFIED:20240618T190739Z
UID:3243-1725049800-1725053400@asterism.org
SUMMARY:The Basics -- What is the US Space Force (USSF)?
DESCRIPTION:by USSF 2nd Lieutenant\, Veronica Vergara
URL:https://asterism.org/event/the-basics-what-is-the-us-space-force-ussf/
CATEGORIES:Public Talk
END:VEVENT
END:VCALENDAR