BEGIN:VCALENDAR
VERSION:2.0
PRODID:-//Asterism.org - ECPv6.15.18//NONSGML v1.0//EN
CALSCALE:GREGORIAN
METHOD:PUBLISH
X-ORIGINAL-URL:https://asterism.org
X-WR-CALDESC:Events for Asterism.org
REFRESH-INTERVAL;VALUE=DURATION:PT1H
X-Robots-Tag:noindex
X-PUBLISHED-TTL:PT1H
BEGIN:VTIMEZONE
TZID:America/New_York
BEGIN:DAYLIGHT
TZOFFSETFROM:-0500
TZOFFSETTO:-0400
TZNAME:EDT
DTSTART:20230312T070000
END:DAYLIGHT
BEGIN:STANDARD
TZOFFSETFROM:-0400
TZOFFSETTO:-0500
TZNAME:EST
DTSTART:20231105T060000
END:STANDARD
BEGIN:DAYLIGHT
TZOFFSETFROM:-0500
TZOFFSETTO:-0400
TZNAME:EDT
DTSTART:20240310T070000
END:DAYLIGHT
BEGIN:STANDARD
TZOFFSETFROM:-0400
TZOFFSETTO:-0500
TZNAME:EST
DTSTART:20241103T060000
END:STANDARD
BEGIN:DAYLIGHT
TZOFFSETFROM:-0500
TZOFFSETTO:-0400
TZNAME:EDT
DTSTART:20250309T070000
END:DAYLIGHT
BEGIN:STANDARD
TZOFFSETFROM:-0400
TZOFFSETTO:-0500
TZNAME:EST
DTSTART:20251102T060000
END:STANDARD
END:VTIMEZONE
BEGIN:VEVENT
DTSTART;TZID=America/New_York:20241220T200000
DTEND;TZID=America/New_York:20241220T210000
DTSTAMP:20260423T055951
CREATED:20240814T193004Z
LAST-MODIFIED:20240917T195712Z
UID:3440-1734724800-1734728400@asterism.org
SUMMARY:Replicating Cosmic Ray Interactions at Cern - in person in the Roy Smith Theatre
DESCRIPTION:by Dr. Priya Ghosh\, from Goddard Space Flight Center
URL:https://asterism.org/event/replicating-cosmic-ray-interactions-at-cern-in-person-in-the-roy-smith-theatre/
CATEGORIES:General Membership Meeting
END:VEVENT
END:VCALENDAR