BEGIN:VCALENDAR
VERSION:2.0
PRODID:-//Asterism.org - ECPv6.15.18//NONSGML v1.0//EN
CALSCALE:GREGORIAN
METHOD:PUBLISH
X-ORIGINAL-URL:https://asterism.org
X-WR-CALDESC:Events for Asterism.org
REFRESH-INTERVAL;VALUE=DURATION:PT1H
X-Robots-Tag:noindex
X-PUBLISHED-TTL:PT1H
BEGIN:VTIMEZONE
TZID:America/New_York
BEGIN:DAYLIGHT
TZOFFSETFROM:-0500
TZOFFSETTO:-0400
TZNAME:EDT
DTSTART:20240310T070000
END:DAYLIGHT
BEGIN:STANDARD
TZOFFSETFROM:-0400
TZOFFSETTO:-0500
TZNAME:EST
DTSTART:20241103T060000
END:STANDARD
BEGIN:DAYLIGHT
TZOFFSETFROM:-0500
TZOFFSETTO:-0400
TZNAME:EDT
DTSTART:20250309T070000
END:DAYLIGHT
BEGIN:STANDARD
TZOFFSETFROM:-0400
TZOFFSETTO:-0500
TZNAME:EST
DTSTART:20251102T060000
END:STANDARD
BEGIN:DAYLIGHT
TZOFFSETFROM:-0500
TZOFFSETTO:-0400
TZNAME:EDT
DTSTART:20260308T070000
END:DAYLIGHT
BEGIN:STANDARD
TZOFFSETFROM:-0400
TZOFFSETTO:-0500
TZNAME:EST
DTSTART:20261101T060000
END:STANDARD
END:VTIMEZONE
BEGIN:VEVENT
DTSTART;TZID=America/New_York:20250425T200000
DTEND;TZID=America/New_York:20250425T210000
DTSTAMP:20260421T111244
CREATED:20240814T200214Z
LAST-MODIFIED:20250415T184029Z
UID:3450-1745611200-1745614800@asterism.org
SUMMARY:Tracking  Sediment on Earth and Mars - in Person in the Roy Smith Theatre
DESCRIPTION:by Dr. Michael Thorpe\, from Goddard Space Flight Center
URL:https://asterism.org/event/source-to-sink-geology-on-earth-and-mars-in-person-in-the-roy-smith-theatre/
CATEGORIES:General Membership Meeting
END:VEVENT
END:VCALENDAR