BEGIN:VCALENDAR
VERSION:2.0
PRODID:-//Asterism.org - ECPv6.15.18//NONSGML v1.0//EN
CALSCALE:GREGORIAN
METHOD:PUBLISH
X-ORIGINAL-URL:https://asterism.org
X-WR-CALDESC:Events for Asterism.org
REFRESH-INTERVAL;VALUE=DURATION:PT1H
X-Robots-Tag:noindex
X-PUBLISHED-TTL:PT1H
BEGIN:VTIMEZONE
TZID:America/New_York
BEGIN:DAYLIGHT
TZOFFSETFROM:-0500
TZOFFSETTO:-0400
TZNAME:EDT
DTSTART:20230312T070000
END:DAYLIGHT
BEGIN:STANDARD
TZOFFSETFROM:-0400
TZOFFSETTO:-0500
TZNAME:EST
DTSTART:20231105T060000
END:STANDARD
BEGIN:DAYLIGHT
TZOFFSETFROM:-0500
TZOFFSETTO:-0400
TZNAME:EDT
DTSTART:20240310T070000
END:DAYLIGHT
BEGIN:STANDARD
TZOFFSETFROM:-0400
TZOFFSETTO:-0500
TZNAME:EST
DTSTART:20241103T060000
END:STANDARD
BEGIN:DAYLIGHT
TZOFFSETFROM:-0500
TZOFFSETTO:-0400
TZNAME:EDT
DTSTART:20250309T070000
END:DAYLIGHT
BEGIN:STANDARD
TZOFFSETFROM:-0400
TZOFFSETTO:-0500
TZNAME:EST
DTSTART:20251102T060000
END:STANDARD
END:VTIMEZONE
BEGIN:VEVENT
DTSTART;TZID=America/New_York:20240802T203000
DTEND;TZID=America/New_York:20240802T213000
DTSTAMP:20260423T152756
CREATED:20240424T114822Z
LAST-MODIFIED:20240618T190826Z
UID:3066-1722630600-1722634200@asterism.org
SUMMARY:What's Up: A Down to Earth Sky Guide - in person in Sperry Observatory
DESCRIPTION:By – Dr. John Sichel
URL:https://asterism.org/event/whats-up-a-down-to-earth-sky-guide-in-person-in-sperry-observatory-12/
CATEGORIES:Public Talk
END:VEVENT
BEGIN:VEVENT
DTSTART;TZID=America/New_York:20240809T203000
DTEND;TZID=America/New_York:20240809T213000
DTSTAMP:20260423T152756
CREATED:20240706T114935Z
LAST-MODIFIED:20240807T212653Z
UID:3324-1723235400-1723239000@asterism.org
SUMMARY:Astronomy Down the Shore - will be posted on YouTube at a later date
DESCRIPTION:by Bonnie Witzgall
URL:https://asterism.org/event/astronomy-down-the-shore-in-person-in-sperry-observatory/
CATEGORIES:Public Talk
END:VEVENT
BEGIN:VEVENT
DTSTART;TZID=America/New_York:20240816T203000
DTEND;TZID=America/New_York:20240816T213000
DTSTAMP:20260423T152756
CREATED:20240606T202537Z
LAST-MODIFIED:20240606T202539Z
UID:3210-1723840200-1723843800@asterism.org
SUMMARY:A Glimpse Into the Standard Model of Particle Physics - in person in Sperry Observatory
DESCRIPTION:by Spencer Martin
URL:https://asterism.org/event/a-glimpse-into-the-standard-model-of-particle-physics-in-person-in-sperry-observatory/
CATEGORIES:Public Talk
END:VEVENT
BEGIN:VEVENT
DTSTART;TZID=America/New_York:20240823T203000
DTEND;TZID=America/New_York:20240823T213000
DTSTAMP:20260423T152756
CREATED:20240424T115002Z
LAST-MODIFIED:20240724T003801Z
UID:3068-1724445000-1724448600@asterism.org
SUMMARY:A Baker's Dozen of Moons (That You Can Find With Modest Equipment!) - in person in Sperry Observatory
DESCRIPTION:by Lonny Buinis
URL:https://asterism.org/event/a-bakers-dozen-the-moons-you-can-actually-see/
CATEGORIES:Public Talk
END:VEVENT
BEGIN:VEVENT
DTSTART;TZID=America/New_York:20240830T203000
DTEND;TZID=America/New_York:20240830T213000
DTSTAMP:20260423T152756
CREATED:20240618T190737Z
LAST-MODIFIED:20240618T190739Z
UID:3243-1725049800-1725053400@asterism.org
SUMMARY:The Basics -- What is the US Space Force (USSF)?
DESCRIPTION:by USSF 2nd Lieutenant\, Veronica Vergara
URL:https://asterism.org/event/the-basics-what-is-the-us-space-force-ussf/
CATEGORIES:Public Talk
END:VEVENT
END:VCALENDAR